BEGIN:VCALENDAR
VERSION:2.0
PRODID:-//Fellowship of Reconciliation - ECPv6.15.17//NONSGML v1.0//EN
CALSCALE:GREGORIAN
METHOD:PUBLISH
X-ORIGINAL-URL:https://for.org.uk
X-WR-CALDESC:Events for Fellowship of Reconciliation
REFRESH-INTERVAL;VALUE=DURATION:PT1H
X-Robots-Tag:noindex
X-PUBLISHED-TTL:PT1H
BEGIN:VTIMEZONE
TZID:Europe/London
BEGIN:DAYLIGHT
TZOFFSETFROM:+0000
TZOFFSETTO:+0100
TZNAME:BST
DTSTART:20250330T010000
END:DAYLIGHT
BEGIN:STANDARD
TZOFFSETFROM:+0100
TZOFFSETTO:+0000
TZNAME:GMT
DTSTART:20251026T010000
END:STANDARD
BEGIN:DAYLIGHT
TZOFFSETFROM:+0000
TZOFFSETTO:+0100
TZNAME:BST
DTSTART:20260329T010000
END:DAYLIGHT
BEGIN:STANDARD
TZOFFSETFROM:+0100
TZOFFSETTO:+0000
TZNAME:GMT
DTSTART:20261025T010000
END:STANDARD
BEGIN:DAYLIGHT
TZOFFSETFROM:+0000
TZOFFSETTO:+0100
TZNAME:BST
DTSTART:20270328T010000
END:DAYLIGHT
BEGIN:STANDARD
TZOFFSETFROM:+0100
TZOFFSETTO:+0000
TZNAME:GMT
DTSTART:20271031T010000
END:STANDARD
END:VTIMEZONE
BEGIN:VEVENT
DTSTART;TZID=Europe/London:20260317T103000
DTEND;TZID=Europe/London:20260317T113000
DTSTAMP:20260423T045933
CREATED:20260310T121313Z
LAST-MODIFIED:20260310T121313Z
UID:4484-1773743400-1773747000@for.org.uk
SUMMARY:Fight Like Jesus Lent Bookgroup
DESCRIPTION:When Jesus was faced by the might of Roman Justice and the knowledge of his own death\, how did he respond? In a world of increasing instability and conflict\, come together and explore what it means to Fight Like Jesus! \nCome if you have read the book\, meant to read the book or are just plain curious!
URL:https://for.org.uk/event/fight-like-jesus-lent-bookgroup/
END:VEVENT
BEGIN:VEVENT
DTSTART;TZID=Europe/London:20260324T103000
DTEND;TZID=Europe/London:20260324T113000
DTSTAMP:20260423T045933
CREATED:20260310T121604Z
LAST-MODIFIED:20260310T122305Z
UID:4487-1774348200-1774351800@for.org.uk
SUMMARY:Fight Like Jesus: Lent Book Group (2 of 3)
DESCRIPTION:When Jesus was faced by the might of Roman Justice and the knowledge of his own death\, how did he respond? In a world of increasing instability and conflict\, come together and explore what it means to Fight Like Jesus! \nCome if you have read the book\, meant to read the book or are just plain curious!
URL:https://for.org.uk/event/fight-like-jesus-lent-book-group-2-of-3/
END:VEVENT
BEGIN:VEVENT
DTSTART;TZID=Europe/London:20260328T103000
DTEND;TZID=Europe/London:20260328T170000
DTSTAMP:20260423T045933
CREATED:20260310T120159Z
LAST-MODIFIED:20260310T120159Z
UID:4481-1774693800-1774717200@for.org.uk
SUMMARY:Together March
DESCRIPTION:The voices of division in our country are growing louder and more confident. Far-right protests on our streets mobilising the biggest numbers they ever have managed.\n\nTheir false promises seize on the very real economic problems people face\, in order to scapegoat migrants\, Muslims and refugees.\n\nBut we know we can change things when we stand together.\n\nThat’s why we are joining the Christian group in the Together Alliance. The alliance is made up of hundreds of civil society organisations representing over 7 million people.\n\nWe’re part of the Christian group to demonstrate that our faith values love\, hope and unity in the face of hate\, fear and division.\n\n\nThis will be a family-friendly day filled with welcome and unity\, and of course\, prayer. \nWe will start with a pre march ecumenical service which will include children’s activities. This will take place 10.30 – 11.15am at Oasis Church Waterloo\, SE1 7QP. Sign up with this link to come  https://oasiswaterloo.churchsuite.com/events/ekzbovwd \nThe march assembles at noon on Park Lane in London. We expect to finish around 4.30pm. Sign up here for further information and to join us in the Christian Bloc on the march https://forms.fillout.com/t/taUVQsj1dyus \nFind out more about the Together Alliance and the march\, including transport options on their website. There are details of coaches from many parts of the country. https://www.togetheralliance.org.uk
URL:https://for.org.uk/event/together-march/
END:VEVENT
BEGIN:VEVENT
DTSTART;TZID=Europe/London:20260331T193000
DTEND;TZID=Europe/London:20260331T210000
DTSTAMP:20260423T045933
CREATED:20260310T122728Z
LAST-MODIFIED:20260310T122728Z
UID:4489-1774985400-1774990800@for.org.uk
SUMMARY:Fight Like Jesus - Hear from the Author!
DESCRIPTION:When Jesus was faced by the might of Roman Justice and the knowledge of his own death\, how did he respond? In a world of increasing instability and conflict\, come together and explore what it means to Fight Like Jesus! \nCome if you have read the book\, meant to read the book or are just plain curious!
URL:https://for.org.uk/event/fight-like-jesus-hear-from-the-author/
END:VEVENT
BEGIN:VEVENT
DTSTART;TZID=Europe/London:20260424T190000
DTEND;TZID=Europe/London:20260426T130000
DTSTAMP:20260423T045933
CREATED:20260306T203235Z
LAST-MODIFIED:20260406T191441Z
UID:4468-1777057200-1777208400@for.org.uk
SUMMARY:'Healing From Conflict' Conference
DESCRIPTION:How do individuals and communities truly heal after conflict? This conference invites speakers and participants to explore this vital question together. Over a weekend of learning\, reflection\, and connection\, we will consider how genuine healing can pave the way for communities to flourish in peace\, justice\, and hope. \nThe programme will include keynote talks\, panel discussions\, practical workshops\, and creative sessions\, alongside dedicated space to meet others who share a passion for peacemaking. Together\, we will draw on experience\, wisdom\, and imagination to explore pathways toward healing and renewed community life. \nThis ecumenical Christian peace conference is a collaboration between the Fellowship of Reconciliation\, CHIPS (Christian International Peace Service)\, the Anglican Pacifist Fellowship\, Pax Christi\, and Church and Peace (the European Ecumenical Peace Network). Following our successful joint gathering in September 2024\, Building Peace in a World at War\, we are delighted to partner again on this year’s theme: Healing from Conflict. \nBook your ticket now
URL:https://for.org.uk/event/healing-from-conflict-conference/
LOCATION:Kents Park\, Swallow House\, Timbold Dr\, Kents Hill\,\, Milton Keynes\, MK7 6BZ\, United Kingdom
END:VEVENT
END:VCALENDAR